BEGIN:VCALENDAR
VERSION:2.0
PRODID:-//ZContent.net//ZapCalLib 1.0//EN
CALSCALE:GREGORIAN
METHOD:PUBLISH
BEGIN:VEVENT
SUMMARY:Kleckerwald Cup
UID:4965-2025-04-27@67t.6c0.myftpupload.com
DTSTART:20250427T090000
DTEND:20250427T210000
DTSTAMP:20231230T171537
LOCATION:TC Kleckerwald, Eikhoff 2, 21224 Rosengarten
END:VEVENT
END:VCALENDAR
