BEGIN:VCALENDAR
VERSION:2.0
PRODID:-//ZContent.net//ZapCalLib 1.0//EN
CALSCALE:GREGORIAN
METHOD:PUBLISH
BEGIN:VEVENT
SUMMARY:Vereinsmeisterschaften Damen & Herren Einzel & Doppel
UID:5044-2025-09-13@67t.6c0.myftpupload.com
DTSTART:20250913T090000
DTEND:20250913T180000
DTSTAMP:20231230T171537
LOCATION:TC Kleckerwald, Eikhoff 2, 21224 Rosengarten
END:VEVENT
END:VCALENDAR
